BEGIN:VCALENDAR
VERSION:2.0
PRODID:-//wp-events-plugin.com//7.2.3.1//EN
TZID:America/Montreal
X-WR-TIMEZONE:America/Montreal
BEGIN:VEVENT
UID:12@associationquebecoisedesspas.com
DTSTART;TZID=America/Montreal:20260428T110000
DTEND;TZID=America/Montreal:20260428T120000
DTSTAMP:20260414T141424Z
URL:https://associationquebecoisedesspas.com/calendrier/webinaire-latmp-ac
 cident-de-travail-et-travailleurs-autonomes-un-jugement-recent-qui-pourrai
 t-changer-vos-obligations-2/
SUMMARY:Webinaire : LATMP (accident de travail) et travailleurs autonomes :
  un jugement récent qui pourrait changer vos obligations
DESCRIPTION:Portrait et impacts économiques de l’industrie des spas au Q
 uébec\n\n→ Je m’inscris\n\nNous vous invitons à participer à ce web
 inaire exclusif\, qui vous présentera les grandes lignes de notre étude 
 des impacts économiques des spas au Québec réalisée avec la firme Raym
 ond Chabot Grant Thornton.\n\nAu programme :\n\n 	Portrait des spas\n 	Pro
 fil de la clientèle des spas au Québec\n 	Retombées économiques des sp
 as au Québec\n\nNotre invité : Denis Brisebois\, Vice-président de prat
 ique – Tourisme Loisir Culture\, Conseil en management chez Raymond Chab
 ot Grant Thornton\n\nDate : Mardi 28 avril 2026\n\nHeure : 11h à 12h\nDur
 ée : 45 minutes + questions\nMembres : gratuit\nNon-membres : 50$\n\nNo
 us avons hâte de vous y retrouver\,\n\nL’équipe de l’AQS\n→ Je m
 ’inscris
ATTACH;FMTTYPE=image/jpeg:https://associationquebecoisedesspas.com/wp-cont
 ent/uploads/2026/04/webinaire-rcgt.jpg
END:VEVENT
BEGIN:VTIMEZONE
TZID:America/Montreal
X-LIC-LOCATION:America/Montreal
BEGIN:DAYLIGHT
DTSTART:20260308T030000
TZOFFSETFROM:-0500
TZOFFSETTO:-0400
TZNAME:EDT
END:DAYLIGHT
END:VTIMEZONE
END:VCALENDAR